﻿BEGIN:VCALENDAR
VERSION:2.0
PRODID:-//hacksw/handcal//NONSGML v1.0//EN
CALSCALE:GREGORIAN
BEGIN:VEVENT
DTEND:20260425T120000
UID:a9c33dff7f9b7d186c2df6d486c2fadd
DTSTAMP:1776934116
LOCATION: TRUE ICON HALL | Hall 1+2
DESCRIPTION:รวมตัวท็อปตัวตึงสายเอนเตอร์เทนและสายรักษ์โลกไว้ในงานเดียว!
พบกับพิธีกรอารมณ์ดี ป๋อมแป๋ม นิติ ที่จะพาแก๊งเพื่อนซี้หัวใจอีโค่มาแชร์มุมมองแบบสนุก เข้าใจง่าย และจุดประกายไอเดียใหม่ ๆ ในการดูแลโลก
URL;VALUE=URI:https://www.iconsiamhall.com/th/event/%E0%B8%97%E0%B8%AD%E0%B8%A5%E0%B9%8C%E0%B8%81%E0%B8%81%E0%B8%B0%E0%B9%80%E0%B8%98%E0%B8%AD%E0%B8%AA%E0%B9%8C%201.5
SUMMARY:ทอล์กกะเธอส์ 1.5
DTSTART:20260425T120000
BEGIN:VALARM
TRIGGER:-PT24H
ACTION:DISPLAY
DESCRIPTION:Reminder
END:VALARM
END:VEVENT
END:VCALENDAR