﻿BEGIN:VCALENDAR
VERSION:2.0
PRODID:-//hacksw/handcal//NONSGML v1.0//EN
CALSCALE:GREGORIAN
BEGIN:VEVENT
DTEND:20251005T120000
UID:40b7bb7289178082662b2dafedf827ed
DTSTAMP:1776694439
LOCATION: TRUE ICON HALL | Hall 1+2
DESCRIPTION:งานใหญ่ที่สุดของ ลงทุนแมน มาแล้ว “ลงทุนแมน SUMMIT 2025” รวมสุดยอด วิธีสร้างความมั่งคั่ง ทั้งการทำธุรกิจ การตลาด และการลงทุน
URL;VALUE=URI:https://www.iconsiamhall.com/th/event/%E0%B8%A5%E0%B8%87%E0%B8%97%E0%B8%B8%E0%B8%99%E0%B9%81%E0%B8%A1%E0%B8%99%20SUMMIT%202025
SUMMARY:ลงทุนแมน SUMMIT 2025
DTSTART:20251005T120000
BEGIN:VALARM
TRIGGER:-PT24H
ACTION:DISPLAY
DESCRIPTION:Reminder
END:VALARM
END:VEVENT
END:VCALENDAR