﻿BEGIN:VCALENDAR
VERSION:2.0
PRODID:-//hacksw/handcal//NONSGML v1.0//EN
CALSCALE:GREGORIAN
BEGIN:VEVENT
DTEND:20251123T120000
UID:3f58503a591168945e60b9d3d06423e5
DTSTAMP:1776797690
LOCATION: TRUE ICON HALL | Hall 1+2
DESCRIPTION:เตรียมกรี๊ดต้อนรับการกลับมาของ “นายน้อย” สุดฮ็อต! พระเอกหนุ่มเจ้าเสน่ห์ อี แจ-อุค (Lee Jae Wook) ประกาศจัดงาน 2025 LEE JAE WOOK ASIA FANMEETING TOUR <pro\'log\'> in Bangkok เพื่อส่งมอบโมเมนต์สุดพิเศษให้กับแฟนๆ ชาวไทยอีกครั้ง งานนี้จัดโดย Grandprix Xpectrum ผู้จัดคุณภาพ ที่รับประกันความใกล้ชิดและอบอุ่นกว่าที่เคย!
URL;VALUE=URI:https://www.iconsiamhall.com/th/event/2025%20LEE%20JAE%20WOOK%20ASIA%20FANMEETING%20TOUR
SUMMARY:2025 LEE JAE WOOK ASIA FANMEETING TOUR pro\'log
DTSTART:20251123T120000
BEGIN:VALARM
TRIGGER:-PT24H
ACTION:DISPLAY
DESCRIPTION:Reminder
END:VALARM
END:VEVENT
END:VCALENDAR