﻿BEGIN:VCALENDAR
VERSION:2.0
PRODID:-//hacksw/handcal//NONSGML v1.0//EN
CALSCALE:GREGORIAN
BEGIN:VEVENT
DTEND:20251206T120000
UID:c2681212bbfc4dabec0f36a08dc4e3ce
DTSTAMP:1776700621
LOCATION: TRUE ICON HALL | Hall 1+2
DESCRIPTION:มาร่วมเติมเต็มช่วงเวลาที่คิดถึง! อี จง-ซอก (Lee Jong Suk) นักแสดงหนุ่มเจ้าของรอยยิ้มละลายใจ กลับมาพบกับแฟนๆ ชาวไทยอีกครั้งในงาน 2025 LEE JONG SUK ASIA FANMEETING TOUR [With : Just Like This] in BANGKOK เพื่อร่วมสร้างความทรงจำสุดพิเศษแบบใกล้ชิดที่สุด
URL;VALUE=URI:https://www.iconsiamhall.com/th/event/2025%20LEE%20JONG%20SUK%20ASIA%20FANMEETING%20TOUR
SUMMARY:2025 LEE JONG SUK ASIA FANMEETING TOUR [With : Just Like This] in BANGKOK
DTSTART:20251206T120000
BEGIN:VALARM
TRIGGER:-PT24H
ACTION:DISPLAY
DESCRIPTION:Reminder
END:VALARM
END:VEVENT
END:VCALENDAR